BEGIN:VCALENDAR
VERSION:2.0
PRODID:Imitheme.com
BEGIN:VEVENT
UID:20260423T084831-291955959
DTSTAMP;TZID=UTC:1776934111
DTSTART;TZID=America/Los_Angeles:20260423T084831
DTEND;TZID=America/Los_Angeles:20260423T084831
SUMMARY:Second Saturday at the Morean Arts Center: Fresh Squeezed 8 Reception
LOCATION:
DESCRIPTION: https://moreanartscenter.org/eventer/second-saturday-at-the-morean-arts-center-fresh-squeezed-8/
URL:https://moreanartscenter.org/eventer/second-saturday-at-the-morean-arts-center-fresh-squeezed-8/
END:VEVENT
END:VCALENDAR
