BEGIN:VCALENDAR
VERSION:2.0
PRODID:Imitheme.com
BEGIN:VEVENT
UID:20260421T073900-1332397164
DTSTAMP;TZID=UTC:1776757140
DTSTART;TZID=America/Los_Angeles:20260421T073900
DTEND;TZID=America/Los_Angeles:20260421T073900
SUMMARY:Morean Center for Clay: Opening Reception for Potter's Field Members Show
LOCATION:
DESCRIPTION: https://moreanartscenter.org/eventer/morean-center-for-clay-opening-reception-for-potters-field-members-show/
URL:https://moreanartscenter.org/eventer/morean-center-for-clay-opening-reception-for-potters-field-members-show/
END:VEVENT
END:VCALENDAR
