BEGIN:VCALENDAR
VERSION:2.0
PRODID:Imitheme.com
BEGIN:VEVENT
UID:20260423T084710-1060833015
DTSTAMP;TZID=UTC:1776934030
DTSTART;TZID=America/Los_Angeles:20260423T084710
DTEND;TZID=America/Los_Angeles:20260423T084710
SUMMARY:Morean Center for Clay | Opening Reception for Brenna Curvey: Community Quilt and Karina Yanes: Between Two Groves
LOCATION:
DESCRIPTION: https://moreanartscenter.org/eventer/morean-center-for-clay-opening-reception-for-brenna-curey-community-quilt/
URL:https://moreanartscenter.org/eventer/morean-center-for-clay-opening-reception-for-brenna-curey-community-quilt/
END:VEVENT
END:VCALENDAR
